BEGIN:VCALENDAR
VERSION:2.0
PRODID:-//Sportclub Dietfurt - ECPv6.15.17//NONSGML v1.0//EN
CALSCALE:GREGORIAN
METHOD:PUBLISH
X-ORIGINAL-URL:https://sportclub-dietfurt.ch
X-WR-CALDESC:Veranstaltungen für Sportclub Dietfurt
REFRESH-INTERVAL;VALUE=DURATION:PT1H
X-Robots-Tag:noindex
X-PUBLISHED-TTL:PT1H
BEGIN:VTIMEZONE
TZID:Europe/Zurich
BEGIN:DAYLIGHT
TZOFFSETFROM:+0100
TZOFFSETTO:+0200
TZNAME:CEST
DTSTART:20220327T010000
END:DAYLIGHT
BEGIN:STANDARD
TZOFFSETFROM:+0200
TZOFFSETTO:+0100
TZNAME:CET
DTSTART:20221030T010000
END:STANDARD
BEGIN:DAYLIGHT
TZOFFSETFROM:+0100
TZOFFSETTO:+0200
TZNAME:CEST
DTSTART:20230326T010000
END:DAYLIGHT
BEGIN:STANDARD
TZOFFSETFROM:+0200
TZOFFSETTO:+0100
TZNAME:CET
DTSTART:20231029T010000
END:STANDARD
BEGIN:DAYLIGHT
TZOFFSETFROM:+0100
TZOFFSETTO:+0200
TZNAME:CEST
DTSTART:20240331T010000
END:DAYLIGHT
BEGIN:STANDARD
TZOFFSETFROM:+0200
TZOFFSETTO:+0100
TZNAME:CET
DTSTART:20241027T010000
END:STANDARD
END:VTIMEZONE
BEGIN:VEVENT
DTSTART;TZID=Europe/Zurich:20230831T080000
DTEND;TZID=Europe/Zurich:20230831T100000
DTSTAMP:20260422T181718
CREATED:20230822T193335Z
LAST-MODIFIED:20230822T193335Z
UID:22-1693468800-1693476000@sportclub-dietfurt.ch
SUMMARY:test2
DESCRIPTION:
URL:https://sportclub-dietfurt.ch/event/test2/
END:VEVENT
BEGIN:VEVENT
DTSTART;TZID=Europe/Zurich:20230831T170000
DTEND;TZID=Europe/Zurich:20230831T200000
DTSTAMP:20260422T181719
CREATED:20230823T124637Z
LAST-MODIFIED:20230824T085846Z
UID:80-1693501200-1693512000@sportclub-dietfurt.ch
SUMMARY:test4
DESCRIPTION:
URL:https://sportclub-dietfurt.ch/event/test4/
END:VEVENT
END:VCALENDAR