BEGIN:VCALENDAR
VERSION:2.0
PRODID:-//Sportclub Dietfurt - ECPv6.15.17//NONSGML v1.0//EN
CALSCALE:GREGORIAN
METHOD:PUBLISH
X-ORIGINAL-URL:https://sportclub-dietfurt.ch
X-WR-CALDESC:Veranstaltungen für Sportclub Dietfurt
REFRESH-INTERVAL;VALUE=DURATION:PT1H
X-Robots-Tag:noindex
X-PUBLISHED-TTL:PT1H
BEGIN:VTIMEZONE
TZID:Europe/Zurich
BEGIN:DAYLIGHT
TZOFFSETFROM:+0100
TZOFFSETTO:+0200
TZNAME:CEST
DTSTART:20230326T010000
END:DAYLIGHT
BEGIN:STANDARD
TZOFFSETFROM:+0200
TZOFFSETTO:+0100
TZNAME:CET
DTSTART:20231029T010000
END:STANDARD
BEGIN:DAYLIGHT
TZOFFSETFROM:+0100
TZOFFSETTO:+0200
TZNAME:CEST
DTSTART:20240331T010000
END:DAYLIGHT
BEGIN:STANDARD
TZOFFSETFROM:+0200
TZOFFSETTO:+0100
TZNAME:CET
DTSTART:20241027T010000
END:STANDARD
BEGIN:DAYLIGHT
TZOFFSETFROM:+0100
TZOFFSETTO:+0200
TZNAME:CEST
DTSTART:20250330T010000
END:DAYLIGHT
BEGIN:STANDARD
TZOFFSETFROM:+0200
TZOFFSETTO:+0100
TZNAME:CET
DTSTART:20251026T010000
END:STANDARD
END:VTIMEZONE
BEGIN:VEVENT
DTSTART;VALUE=DATE:20240818
DTEND;VALUE=DATE:20240819
DTSTAMP:20260421T223737
CREATED:20240322T151652Z
LAST-MODIFIED:20240605T173335Z
UID:155-1723939200-1724025599@sportclub-dietfurt.ch
SUMMARY:Dä schnellscht Dietfurter
DESCRIPTION:Sonntag\, 18. August 2024 \nVerschiebedatum: Sonntag\, 25. August 2024 \n\nOrt: Schulhaus Dietfurt \nAusgabe der Startnummer: 13.00 Uhr \nAnmeldung: am Start  \nStart: 13.30 Uhr \nDer/ die Schnellste jeder Kategorie werden in Vor- und Zwischenläufe sowie Finals ermittelt. \nTeilnahmeberechtigt sind alle Dietfurter- Kinder\, sowie die Kinder auswärtiger SCD- Mitglieder. \nNatürlich werden neben den Sportclubmitgliedern auch Erwachsene Dietfurterinnen und Dietfurter zum Start aufgefordert. \nDank dem Sponsoring der Raiffeisenbank Regio Unteres Toggenburg & Neckertal erhält jedes Kind\, das am schnellsten Dietfurter teilnimmt\, eine Medaille und eine Glacé. \nDamit weder Schaulustige noch Teilnehmer Hunger leiden müssen\, sorgt die Festwirtschaft für optimale Verpflegung. Da sind gemütliche Stunden garantiert! \nDas Rangverlesen findet anschliessend an die Wettkämpfe auf dem Festplatz statt. \nÜber die Durchführung gibt Kili am Sonntag ab 9.45 Uhr Auskunft. \nKili Stillhart \n079 412 66 19
URL:https://sportclub-dietfurt.ch/event/dae-schnellscht-dietfurter/
END:VEVENT
END:VCALENDAR