BEGIN:VCALENDAR
VERSION:2.0
PRODID:-//Sportclub Dietfurt - ECPv6.15.17//NONSGML v1.0//EN
CALSCALE:GREGORIAN
METHOD:PUBLISH
X-WR-CALNAME:Sportclub Dietfurt
X-ORIGINAL-URL:https://sportclub-dietfurt.ch
X-WR-CALDESC:Veranstaltungen für Sportclub Dietfurt
REFRESH-INTERVAL;VALUE=DURATION:PT1H
X-Robots-Tag:noindex
X-PUBLISHED-TTL:PT1H
BEGIN:VTIMEZONE
TZID:Europe/Zurich
BEGIN:DAYLIGHT
TZOFFSETFROM:+0100
TZOFFSETTO:+0200
TZNAME:CEST
DTSTART:20240331T010000
END:DAYLIGHT
BEGIN:STANDARD
TZOFFSETFROM:+0200
TZOFFSETTO:+0100
TZNAME:CET
DTSTART:20241027T010000
END:STANDARD
BEGIN:DAYLIGHT
TZOFFSETFROM:+0100
TZOFFSETTO:+0200
TZNAME:CEST
DTSTART:20250330T010000
END:DAYLIGHT
BEGIN:STANDARD
TZOFFSETFROM:+0200
TZOFFSETTO:+0100
TZNAME:CET
DTSTART:20251026T010000
END:STANDARD
BEGIN:DAYLIGHT
TZOFFSETFROM:+0100
TZOFFSETTO:+0200
TZNAME:CEST
DTSTART:20260329T010000
END:DAYLIGHT
BEGIN:STANDARD
TZOFFSETFROM:+0200
TZOFFSETTO:+0100
TZNAME:CET
DTSTART:20261025T010000
END:STANDARD
END:VTIMEZONE
BEGIN:VEVENT
DTSTART;VALUE=DATE:20250118
DTEND;VALUE=DATE:20250119
DTSTAMP:20260421T005406
CREATED:20250102T193741Z
LAST-MODIFIED:20250102T193741Z
UID:232-1737158400-1737244799@sportclub-dietfurt.ch
SUMMARY:Eisstockschiessen Bazenheid
DESCRIPTION:Winterzauber Bazenheid \nMer gönd uf Bazenheid zum üses «Könne» im Iisstockschüsse unter Bewiis z’stellä. \nFalls öpper lieber mit dä Schlittschueh ä paar Rundä uf em Iisfeld dreiht\, dörf natürlich au mitcho. \nMitneh müend ihr guets Schuewerch und dä Witterig apassti Kleidig. \n  \nBitte meld di bis spötischtens Di\, 14. Januar bi dä Manuela a. \n  \nTreffpunkt: 19.35 Uhr Post Dietfurt \nZwei Bahne sind vo 20.00 – 21.00 reserviert \nManuela Oberholzer
URL:https://sportclub-dietfurt.ch/event/eisstockschiessen-bazenheid/
END:VEVENT
END:VCALENDAR