BEGIN:VCALENDAR
VERSION:2.0
PRODID:-//Sportclub Dietfurt - ECPv6.15.17//NONSGML v1.0//EN
CALSCALE:GREGORIAN
METHOD:PUBLISH
X-WR-CALNAME:Sportclub Dietfurt
X-ORIGINAL-URL:https://sportclub-dietfurt.ch
X-WR-CALDESC:Veranstaltungen für Sportclub Dietfurt
REFRESH-INTERVAL;VALUE=DURATION:PT1H
X-Robots-Tag:noindex
X-PUBLISHED-TTL:PT1H
BEGIN:VTIMEZONE
TZID:Europe/Zurich
BEGIN:DAYLIGHT
TZOFFSETFROM:+0100
TZOFFSETTO:+0200
TZNAME:CEST
DTSTART:20240331T010000
END:DAYLIGHT
BEGIN:STANDARD
TZOFFSETFROM:+0200
TZOFFSETTO:+0100
TZNAME:CET
DTSTART:20241027T010000
END:STANDARD
BEGIN:DAYLIGHT
TZOFFSETFROM:+0100
TZOFFSETTO:+0200
TZNAME:CEST
DTSTART:20250330T010000
END:DAYLIGHT
BEGIN:STANDARD
TZOFFSETFROM:+0200
TZOFFSETTO:+0100
TZNAME:CET
DTSTART:20251026T010000
END:STANDARD
BEGIN:DAYLIGHT
TZOFFSETFROM:+0100
TZOFFSETTO:+0200
TZNAME:CEST
DTSTART:20260329T010000
END:DAYLIGHT
BEGIN:STANDARD
TZOFFSETFROM:+0200
TZOFFSETTO:+0100
TZNAME:CET
DTSTART:20261025T010000
END:STANDARD
END:VTIMEZONE
BEGIN:VEVENT
DTSTART;VALUE=DATE:20250208
DTEND;VALUE=DATE:20250209
DTSTAMP:20260421T121928
CREATED:20250102T193822Z
LAST-MODIFIED:20250102T193943Z
UID:235-1738972800-1739059199@sportclub-dietfurt.ch
SUMMARY:Indoor-Freizeitpark ArboPark
DESCRIPTION:ArboPark  \nDer ArboPark ist der grösste Indoor-Freizeitpark in der Schweiz – eine einzigartige Spiel-Erlebniswelt auf über 6000 m2 für aktive und unternehmungslustige Menschen. Attraktionen wie Kartbahn\, Driftpark\, knifflige Challenges\, bis hin zu unterhaltsamen Mini-Spielen warten auf dich – es ist für jeden etwas dabei. Hier findest du weiter Infos: https://www.arbopark.ch \n  \nTreffpunkt:                    18 Uhr Post Dietfurt od. 19 Uhr beim ArboPark \nBekleidung:                  lockere Freizeitbekleidung ist ideal \nDauer:                           Tickets werden von 19h – 23 h gebucht\, damit wir genügend Zeit haben für die vielen Attraktionen \nKosten:                         CHF 50.00 \n(>> das Ticket für 4h mit Karting kostet \nCHF 75.00\, der Sportclub übernimmt CHF 25.-) \nAnmeldung:                  bis spätestens Mittwoch\, 29. Januar bei Manuela \n  \nManuela Oberholzer
URL:https://sportclub-dietfurt.ch/event/kinderfasnacht-dietfurt/
END:VEVENT
END:VCALENDAR