BEGIN:VCALENDAR
VERSION:2.0
PRODID:-//Sportclub Dietfurt - ECPv6.15.17//NONSGML v1.0//EN
CALSCALE:GREGORIAN
METHOD:PUBLISH
X-WR-CALNAME:Sportclub Dietfurt
X-ORIGINAL-URL:https://sportclub-dietfurt.ch
X-WR-CALDESC:Veranstaltungen für Sportclub Dietfurt
REFRESH-INTERVAL;VALUE=DURATION:PT1H
X-Robots-Tag:noindex
X-PUBLISHED-TTL:PT1H
BEGIN:VTIMEZONE
TZID:Europe/Zurich
BEGIN:DAYLIGHT
TZOFFSETFROM:+0100
TZOFFSETTO:+0200
TZNAME:CEST
DTSTART:20230326T010000
END:DAYLIGHT
BEGIN:STANDARD
TZOFFSETFROM:+0200
TZOFFSETTO:+0100
TZNAME:CET
DTSTART:20231029T010000
END:STANDARD
BEGIN:DAYLIGHT
TZOFFSETFROM:+0100
TZOFFSETTO:+0200
TZNAME:CEST
DTSTART:20240331T010000
END:DAYLIGHT
BEGIN:STANDARD
TZOFFSETFROM:+0200
TZOFFSETTO:+0100
TZNAME:CET
DTSTART:20241027T010000
END:STANDARD
BEGIN:DAYLIGHT
TZOFFSETFROM:+0100
TZOFFSETTO:+0200
TZNAME:CEST
DTSTART:20250330T010000
END:DAYLIGHT
BEGIN:STANDARD
TZOFFSETFROM:+0200
TZOFFSETTO:+0100
TZNAME:CET
DTSTART:20251026T010000
END:STANDARD
END:VTIMEZONE
BEGIN:VEVENT
DTSTART;VALUE=DATE:20240505
DTEND;VALUE=DATE:20240506
DTSTAMP:20260422T021253
CREATED:20240322T151320Z
LAST-MODIFIED:20240322T151320Z
UID:145-1714867200-1714953599@sportclub-dietfurt.ch
SUMMARY:Maientour
DESCRIPTION:Grosse Tour: \nRoute:           Dreien – Riezenmoos – Bödmeli – Winklen – Chrimberg – Chugelhuet – Müselbach – Hawald – Battenberg – Laubberg – Boden – Brunnen – Dreien (Marschzeit ca. 3 ¼ Std.) \nBesammlung: Post Dietfurt / 5.45 Uhr\, anschl. Autofahrt n. Dreien \n  \nKleine Tour: \nRoute:           Mosnang – Bild – Wolgensingen – Auli – Dreien \n                     (Marschzeit ca.1 ¼ Std.) \nBesammlung: Post Dietfurt / 7.30 Uhr\, anschl. Autofahrt n. Mosnang \n  \n(E-)Bike Tour: \nRoute:           Dietfurt – Mosnang – Bild – Wolgensingen – Lenzlingen – Sägeten – Nothüsli – Auli – Dreien \nBesammlung: Post Dietfurt / 7.45 Uhr \n  \nUm ca. 9.00 Uhr treffen wir uns zum Brunch im \nRestaurant Pöstli Dreien \n  \nKosten: \nErwachsene                          Fr. 27.00 \nClubbeitrag                          Fr.   7.00 \nFür Kinder ab 6 Jahre bis 12 Jahre:   Pro Altersjahr Fr. 1.— \n  \nSollte uns das Wetter einen Streich spielen\, treffen sich die wetterfesten Sportclübler für die kleine Tour. \nDie weniger wetterfesten treffen sich beim Postplatz Dietfurt um 8.45 Uhr \n  \nAnmeldung nimmt Kili bis 30. April gerne entgegen. Die Anmeldung gilt bei jedem Wetter!! Bei unsicherer Wetterlage gibt Kili ab 5.30 Uhr Auskunft.
URL:https://sportclub-dietfurt.ch/event/maientour/
END:VEVENT
BEGIN:VEVENT
DTSTART;VALUE=DATE:20240518
DTEND;VALUE=DATE:20240519
DTSTAMP:20260422T021253
CREATED:20240322T151430Z
LAST-MODIFIED:20240322T151430Z
UID:148-1715990400-1716076799@sportclub-dietfurt.ch
SUMMARY:Kreuzegg Classic
DESCRIPTION:Der grösste Sportanlass im Toggenburg findet am Samstag\, 18. Mai statt! Es werden wieder verschiedene Disziplinen durchgeführt wie zum Beispiel Biken\, Joggen\, Walken\, Scooter fahren\, … \nJedes Sportclub-Kind darf gratis teilnehmen oder bekommt das Startgeld bei der Kassierin gegen Vorweisen der Quittung zurückerstattet. \nhttps://www.kreuzegg.ch/event-details/kreuzegg-classic-2023-1
URL:https://sportclub-dietfurt.ch/event/kreuzegg-classic/
END:VEVENT
END:VCALENDAR