BEGIN:VCALENDAR
VERSION:2.0
PRODID:-//Sportclub Dietfurt - ECPv6.15.17//NONSGML v1.0//EN
CALSCALE:GREGORIAN
METHOD:PUBLISH
X-WR-CALNAME:Sportclub Dietfurt
X-ORIGINAL-URL:https://sportclub-dietfurt.ch
X-WR-CALDESC:Veranstaltungen für Sportclub Dietfurt
REFRESH-INTERVAL;VALUE=DURATION:PT1H
X-Robots-Tag:noindex
X-PUBLISHED-TTL:PT1H
BEGIN:VTIMEZONE
TZID:Europe/Zurich
BEGIN:DAYLIGHT
TZOFFSETFROM:+0100
TZOFFSETTO:+0200
TZNAME:CEST
DTSTART:20230326T010000
END:DAYLIGHT
BEGIN:STANDARD
TZOFFSETFROM:+0200
TZOFFSETTO:+0100
TZNAME:CET
DTSTART:20231029T010000
END:STANDARD
BEGIN:DAYLIGHT
TZOFFSETFROM:+0100
TZOFFSETTO:+0200
TZNAME:CEST
DTSTART:20240331T010000
END:DAYLIGHT
BEGIN:STANDARD
TZOFFSETFROM:+0200
TZOFFSETTO:+0100
TZNAME:CET
DTSTART:20241027T010000
END:STANDARD
BEGIN:DAYLIGHT
TZOFFSETFROM:+0100
TZOFFSETTO:+0200
TZNAME:CEST
DTSTART:20250330T010000
END:DAYLIGHT
BEGIN:STANDARD
TZOFFSETFROM:+0200
TZOFFSETTO:+0100
TZNAME:CET
DTSTART:20251026T010000
END:STANDARD
END:VTIMEZONE
BEGIN:VEVENT
DTSTART;VALUE=DATE:20240602
DTEND;VALUE=DATE:20240603
DTSTAMP:20260422T002359
CREATED:20240322T151526Z
LAST-MODIFIED:20240322T151526Z
UID:150-1717286400-1717372799@sportclub-dietfurt.ch
SUMMARY:Velotour
DESCRIPTION:Voranzeige\, reserviert euch das Datum! \n 
URL:https://sportclub-dietfurt.ch/event/velotour/
END:VEVENT
BEGIN:VEVENT
DTSTART;VALUE=DATE:20240615
DTEND;VALUE=DATE:20240616
DTSTAMP:20260422T002359
CREATED:20240322T151559Z
LAST-MODIFIED:20240605T173541Z
UID:153-1718409600-1718495999@sportclub-dietfurt.ch
SUMMARY:Bachfest
DESCRIPTION:Samstag\, 15. Juni 2024 \nVerschiebedatum: Samstag\, 06.Juli 2024 \nBi schönem Wetter findet au das Johr wieder üses traditionelle Bachfescht statt. Am Nomitag ab em 14:00 Uhr hinder dä Sägerei Schluchter gohts los… Mir freued üs! \n\nMer bachet Schlangebrot\nMer brötlet und chochet über em Füür\nFür d’Chind gits öpis zum Baschtle\nEs git en Ballonwettbewerb\nalli wo Luscht hend\, chönd am Obig im Zelt schlofe\n\nFalls DU en Chueche chasch bringe meld di doch no churz bim Marco\, damit er Bscheid weiss. VIELÄ DANK😊 \nMarco Wohlgensinger \n079 608 17 04
URL:https://sportclub-dietfurt.ch/event/bachfest/
END:VEVENT
BEGIN:VEVENT
DTSTART;TZID=Europe/Zurich:20240621T183000
DTEND;TZID=Europe/Zurich:20240621T230000
DTSTAMP:20260422T002359
CREATED:20240605T173033Z
LAST-MODIFIED:20240605T173033Z
UID:163-1718994600-1719010800@sportclub-dietfurt.ch
SUMMARY:Grümpeli Bütschwil
DESCRIPTION:Üsi Turner-Manne vom Sportclub Dietfurt startet am Fritigobig am Bütschwiler Grümpeli. Langets echt für en Podestplatz oder gar für e Schlagziile i dä Ziitig? Chum go luege und erlebs live! Bi Interesse bitte direkt bim Peter melde. \nOder häsch Luscht a dä Dorfolympiade mitzmache? Denn meld di doch direkt bim Kili (079 412 66 19).
URL:https://sportclub-dietfurt.ch/event/gruempeli-buetschwil/
END:VEVENT
END:VCALENDAR