BEGIN:VCALENDAR
VERSION:2.0
PRODID:-//Sportclub Dietfurt - ECPv6.15.17//NONSGML v1.0//EN
CALSCALE:GREGORIAN
METHOD:PUBLISH
X-WR-CALNAME:Sportclub Dietfurt
X-ORIGINAL-URL:https://sportclub-dietfurt.ch
X-WR-CALDESC:Veranstaltungen für Sportclub Dietfurt
REFRESH-INTERVAL;VALUE=DURATION:PT1H
X-Robots-Tag:noindex
X-PUBLISHED-TTL:PT1H
BEGIN:VTIMEZONE
TZID:Europe/Zurich
BEGIN:DAYLIGHT
TZOFFSETFROM:+0100
TZOFFSETTO:+0200
TZNAME:CEST
DTSTART:20230326T010000
END:DAYLIGHT
BEGIN:STANDARD
TZOFFSETFROM:+0200
TZOFFSETTO:+0100
TZNAME:CET
DTSTART:20231029T010000
END:STANDARD
BEGIN:DAYLIGHT
TZOFFSETFROM:+0100
TZOFFSETTO:+0200
TZNAME:CEST
DTSTART:20240331T010000
END:DAYLIGHT
BEGIN:STANDARD
TZOFFSETFROM:+0200
TZOFFSETTO:+0100
TZNAME:CET
DTSTART:20241027T010000
END:STANDARD
BEGIN:DAYLIGHT
TZOFFSETFROM:+0100
TZOFFSETTO:+0200
TZNAME:CEST
DTSTART:20250330T010000
END:DAYLIGHT
BEGIN:STANDARD
TZOFFSETFROM:+0200
TZOFFSETTO:+0100
TZNAME:CET
DTSTART:20251026T010000
END:STANDARD
END:VTIMEZONE
BEGIN:VEVENT
DTSTART;TZID=Europe/Zurich:20240719T190000
DTEND;TZID=Europe/Zurich:20240719T230000
DTSTAMP:20260421T223540
CREATED:20240605T173127Z
LAST-MODIFIED:20240605T173127Z
UID:165-1721415600-1721430000@sportclub-dietfurt.ch
SUMMARY:Kegelplausch Älpli
DESCRIPTION:Für alli\, wo nöd id Summerferi gönd oder denn scho wieder dihai sind\, wird wieder en Kegelplausch uf em Älpli organisiert! \nMer fahret mit em Auto oder Velo vo de Post Dietfurt uf Krinau und laufet vo döt her is Älpli ufä – oder die mit dä Velo chönd direkt is Älpli ufä fahre. \nBesammlig: 19.00 Uhr bi de Post in Dietfurt
URL:https://sportclub-dietfurt.ch/event/kegelplausch-aelpli/
END:VEVENT
END:VCALENDAR