BEGIN:VCALENDAR
VERSION:2.0
PRODID:-//Sportclub Dietfurt - ECPv6.15.17//NONSGML v1.0//EN
CALSCALE:GREGORIAN
METHOD:PUBLISH
X-ORIGINAL-URL:https://sportclub-dietfurt.ch
X-WR-CALDESC:Veranstaltungen für Sportclub Dietfurt
REFRESH-INTERVAL;VALUE=DURATION:PT1H
X-Robots-Tag:noindex
X-PUBLISHED-TTL:PT1H
BEGIN:VTIMEZONE
TZID:Europe/Zurich
BEGIN:DAYLIGHT
TZOFFSETFROM:+0100
TZOFFSETTO:+0200
TZNAME:CEST
DTSTART:20230326T010000
END:DAYLIGHT
BEGIN:STANDARD
TZOFFSETFROM:+0200
TZOFFSETTO:+0100
TZNAME:CET
DTSTART:20231029T010000
END:STANDARD
BEGIN:DAYLIGHT
TZOFFSETFROM:+0100
TZOFFSETTO:+0200
TZNAME:CEST
DTSTART:20240331T010000
END:DAYLIGHT
BEGIN:STANDARD
TZOFFSETFROM:+0200
TZOFFSETTO:+0100
TZNAME:CET
DTSTART:20241027T010000
END:STANDARD
BEGIN:DAYLIGHT
TZOFFSETFROM:+0100
TZOFFSETTO:+0200
TZNAME:CEST
DTSTART:20250330T010000
END:DAYLIGHT
BEGIN:STANDARD
TZOFFSETFROM:+0200
TZOFFSETTO:+0100
TZNAME:CET
DTSTART:20251026T010000
END:STANDARD
END:VTIMEZONE
BEGIN:VEVENT
DTSTART;VALUE=DATE:20241109
DTEND;VALUE=DATE:20241110
DTSTAMP:20260421T155030
CREATED:20240923T150529Z
LAST-MODIFIED:20240923T150529Z
UID:217-1731110400-1731196799@sportclub-dietfurt.ch
SUMMARY:Volley-Ball Toggenburgercup
DESCRIPTION:Samstag\, 9. November 2024\nAm Samstig\, 9. November findet dä Volleyball-Toggeburgercup statt. Wer a däm Tag Ziit und Luscht het zum Volleyball spiele und dä SCD z’verträte\, söll sich bitte bim Peter Stillhart melde. S’Turnier findet i dä Turnhallte Breiti in Bütschwil statt. Gnaueri Infos folged vom Peter zumänä spötere Ziitpunkt.
URL:https://sportclub-dietfurt.ch/event/volley-ball-toggenburgercup/
END:VEVENT
END:VCALENDAR